BEGIN:VCALENDAR
PRODID:-//152.89.105.163//NONSGML kigkonsult.se iCalcreator 2.8//
VERSION:2.0
METHOD:PUBLISH
BEGIN:VEVENT
UID:20260423T155218CEST-56638Od0sU@152.89.105.163
DTSTAMP:20260423T130418Z
CATEGORIES:TV
DESCRIPTION:Weitere Informationen unter http://www.tvinfo.de/fernsehprogram
 m/sendung/2344259283
DTSTART:20260522T072000
DTEND:20260522T081000
LOCATION:NDR
SUMMARY:Rote Rosen
BEGIN:VALARM
ACTION:DISPLAY
DESCRIPTION:Rote Rosen auf NDR
TRIGGER:-PT30M
END:VALARM
END:VEVENT
END:VCALENDAR
