BEGIN:VCALENDAR
PRODID:-//152.89.105.163//NONSGML kigkonsult.se iCalcreator 2.8//
VERSION:2.0
METHOD:PUBLISH
BEGIN:VEVENT
UID:20260423T155228CEST-3115U684Vp@152.89.105.163
DTSTAMP:20260423T130428Z
CATEGORIES:TV
DESCRIPTION:Weitere Informationen unter http://www.tvinfo.de/fernsehprogram
 m/sendung/2343228995
DTSTART:20260512T024500
DTEND:20260512T035500
LOCATION:ORF 3
SUMMARY:Gery Seidl: Sonntagskinder
BEGIN:VALARM
ACTION:DISPLAY
DESCRIPTION:Gery Seidl: Sonntagskinder auf ORF 3
TRIGGER:-PT30M
END:VALARM
END:VEVENT
END:VCALENDAR
