BEGIN:VCALENDAR
PRODID:-//152.89.105.163//NONSGML kigkonsult.se iCalcreator 2.8//
VERSION:2.0
METHOD:PUBLISH
BEGIN:VEVENT
UID:20260423T155250CEST-3855NcLMpL@152.89.105.163
DTSTAMP:20260423T130450Z
CATEGORIES:TV
DESCRIPTION:Weitere Informationen unter http://www.tvinfo.de/fernsehprogram
 m/sendung/2336507890
DTSTART:20260504T073500
DTEND:20260504T080000
LOCATION:ARD-alpha
SUMMARY:Willi wills wissen
BEGIN:VALARM
ACTION:DISPLAY
DESCRIPTION:Willi wills wissen auf ARD-alpha
TRIGGER:-PT30M
END:VALARM
END:VEVENT
END:VCALENDAR
